BEGIN:VCALENDAR
VERSION:2.0
PRODID:-//https://bazar-international.lu///NONSGML kigkonsult.se iCalcreator 2.10.15//
METHOD:PUBLISH
BEGIN:VEVENT
UID:20211004T170104CDT-8937V9Mpcb@https://bazar-international.lu/
DTSTAMP:20211004T220104Z
DESCRIPTION:{article title='France'}[text]{/article} https://bazar-internat
 ional.lu/component/rseventspro/event/31-stand-francais-vente-de-printemps?
 Itemid=101
DTSTART:20210609T100000Z
DTEND:20210609T183000Z
LOCATION:Zoom ()
SUMMARY:Stand Français - « Vente de Printemps » 
URL:https://bazar-international.lu/component/rseventspro/event/31-stand-fra
 ncais-vente-de-printemps?Itemid=101
END:VEVENT
END:VCALENDAR
