BEGIN:VCALENDAR
VERSION:2.0
PRODID:-//https://bazar-international.lu///NONSGML kigkonsult.se iCalcreator 2.10.15//
METHOD:PUBLISH
BEGIN:VEVENT
UID:20211004T170043CDT-56349FVpuk@https://bazar-international.lu/
DTSTAMP:20211004T220043Z
DESCRIPTION:For the first time in Luxembourg\, an exceptional classical gui
 tar concert by\nDENIS SUNGHO\n« Inspired\, imaginative\, exciting » Les ca
 hiers de la guitare\, Paris\, France« Genius\, his fingers litteraly fligh
 t on the guitar » Koelner Stadt Anzeiger\, Germany\n9 February at 18:00\n 
 \nCentre Culturel Altrimenti5\, avenue Marie-Thérèse\, L-2132 Luxembourg\,
 Tel. +352 2877 8977\, \, e-mail : cultura@altrimenti.lu\, www.altrimenti.l
 u\n  https://bazar-international.lu/component/rseventspro/event/12-stand-c
 oree-korea-guitar-concert?Itemid=101
DTSTART:20190209T180000Z
DTEND:20190209T220000Z
LOCATION:Centre Culturel Altrimenti (5 avenue Marie-Thérèse\, L-2132 Luxemb
 ourg)
SUMMARY:Stand Corée/Korea - Guitar Concert
URL:https://bazar-international.lu/component/rseventspro/event/12-stand-cor
 ee-korea-guitar-concert?Itemid=101
END:VEVENT
END:VCALENDAR
