BEGIN:VCALENDAR
VERSION:2.0
PRODID:-//https://bazar-international.lu///NONSGML kigkonsult.se iCalcreator 2.10.15//
METHOD:PUBLISH
BEGIN:VEVENT
UID:20211004T170444CDT-9150wkdP4H@https://bazar-international.lu/
DTSTAMP:20211004T220444Z
DESCRIPTION:Le Stand Français présente\nSous le patronage de l'Ambassade de
  France\n \nThéâtre du Versant-Biarritz\n \nBELLA CIAO\nRuzzante\, Molière
 \, aujourd'hui\nMise en scène Samuel Jégo Avec Sarah Dehez et Samuel Jégo
 \n \nCentre Culturel de Rencontre Abbaye de Neumiinster Salle Robert Kriep
 s\, lundi 28 janvier 2019 a 20hAdultes 20 €. Etudiants 15 €\nVENTEÉcole Gr
 andjean: +352 48 01 07\n OUwww.neimenster.lu +352 26 20 52 444 Information
 s : billetterie@neimenster.lu\nToute contribution bénévole sera la bienven
 ue Stand Français Bazar International :BCEE : lBAN LU43 0019 4355 0528 000
 0 https://bazar-international.lu/component/rseventspro/event/11-stand-fran
 cais-bella-ciao-theatre-du-versant-biarritz?Itemid=101
DTSTART:20190128T200000Z
DTEND:20190128T230000Z
LOCATION:Robert Krips Room Neumünster Abbey (28 Rue Münster\, 2160 Luxembou
 rg)
SUMMARY:Stand Français - Bella Ciao - Théâtre du Versant-Biarritz
URL:https://bazar-international.lu/component/rseventspro/event/11-stand-fra
 ncais-bella-ciao-theatre-du-versant-biarritz?Itemid=101
END:VEVENT
END:VCALENDAR
