BEGIN:VCALENDAR
VERSION:2.0
PRODID:-//https://bazar-international.lu///NONSGML kigkonsult.se iCalcreator 2.10.15//
METHOD:PUBLISH
BEGIN:VEVENT
UID:20211004T170122CDT-6805Tcscph@https://bazar-international.lu/
DTSTAMP:20211004T220122Z
DESCRIPTION:The Book Stand of the Bazar International invites Book Collecto
 rs and Enthusiasts to a special sale with GREAT prices on\n\nANTIQUARIAN B
 OOKS\nModern FIRST EDITIONS\nEXHIBITION CATALOGUES\nOUTSTANDING ART BOOKS
 \nILLUSTRATED BOOKS\nEROTICA\netc.\n\nDates: 6 &amp\; 7 October 2018 10 am
  – 6 pm\nDirections\nBofferdange is a short drive from Luxembourg City (10
 km – 15 minutes). Heading north from Luxembourg on N7 towards Mersch/Ettel
 bruck\, Bofferdange is the village after Heisdorf. It has one set of traff
 ic lights\, turn right at these (rue du Moulin). Go up the hill about ½ km
  (pass all houses\, over speed bumps). Number 25 is the shabby old farmhou
 se all alone on the left. You can also reach Bofferdange via the A7 Autoro
 ute du Nord – follow signs to Lorentzweiler\, then drive south to Bofferda
 nge.\nBook Stand HQ25 rue du MoulinL-7376 Bofferdange\nRefreshments\nCash 
 payments only please\nFor more information\, contact details and direction
 s\, please download our flyer:\n{rsfiles path='2018/Book Stand/2018-Book-S
 tand-Rare-Book-Sale.pdf' version='0' license='0' size='0' date='0' orderin
 g='0'}\n&nbsp\; https://bazar-international.lu/component/rseventspro/event
 /1-special-rare-book-open-house?Itemid=101
DTSTART:20181006T100000Z
DTEND:20181006T180000Z
LOCATION:Book Stand (25 Rue du Moulin\, 7374 Bofferdange\, Luxembourg)
SUMMARY:Special & Rare Book Open House
URL:https://bazar-international.lu/component/rseventspro/event/1-special-ra
 re-book-open-house?Itemid=101
END:VEVENT
END:VCALENDAR
