BEGIN:VCALENDAR
VERSION:2.0
PRODID:-//https://bazar-international.lu///NONSGML kigkonsult.se iCalcreator 2.10.15//
METHOD:PUBLISH
BEGIN:VEVENT
UID:20211004T165234CDT-6615sRbAdv@https://bazar-international.lu/
DTSTAMP:20211004T215234Z
DESCRIPTION:Table Quiz (the original\, and best)\nWednesday 16 October 2019
 7.30 p.m. (sharp)(Doors open at 7 p.m.)\nCentre Culturel Hollerich34\, rue
  Emile Lavandier\, L-1924 Luxembourg\nTable Reservations\nAnnette PowerTel
 . 33 98 84 — annettepower@gmail.com\nGerri EganTel. 43 26 36 — lawlor51g@g
 mail.com\nAlison Lavenderlavender@pt.lu&nbsp\;&nbsp\;&nbsp\;&nbsp\;&nbsp\;
 &nbsp\;&nbsp\;&nbsp\;\nAdmission€ 12 (includes 1 drink)\nThe Quiz is playe
 d by teams of six. Why not organise a team and reserve a table! In this wa
 y you will avoid disappointment and facilitate the smooth running of the Q
 uiz.\nPrizes Galore! https://bazar-international.lu/component/rseventspro/
 event/10-table-quiz-ireland-stand?Itemid=101
DTSTART:20191016T190000Z
DTEND:20191016T223000Z
LOCATION:Centre Culturel Hollerich (34 Rue Emile Lavandier\, L-1924 Luxembo
 urg)
SUMMARY:Table Quiz - Ireland Stand
URL:https://bazar-international.lu/component/rseventspro/event/10-table-qui
 z-ireland-stand?Itemid=101
END:VEVENT
BEGIN:VEVENT
UID:20211004T165234CDT-6618vADuU9@https://bazar-international.lu/
DTSTAMP:20211004T215234Z
DESCRIPTION:Un café portes ouvertes\nL'équipe du Stand français&nbsp\; a le
  plaisir de vous inviter à un «café portes ouvertes» pour vous présenter :
 \nLes accessoires de la Mode d'Été\nVenez nombreuses chercher des idés cad
 eauxle mardi 14 mai 2019 de 9h00 à 18h30 etle mercredi 15 mai 2019 de 9h00
  à 12h30\nPour tout renseignement et adresse\, télécharger le flyer\n&nbsp
 \; https://bazar-international.lu/component/rseventspro/event/13-stand-fra
 ncais-un-cafe-portes-ouvertes?Itemid=101
DTSTART:20190514T090000Z
DTEND:20190514T183000Z
LOCATION: ()
SUMMARY:Stand français - Un café portes ouvertes
URL:https://bazar-international.lu/component/rseventspro/event/13-stand-fra
 ncais-un-cafe-portes-ouvertes?Itemid=101
END:VEVENT
BEGIN:VEVENT
UID:20211004T165234CDT-6620tvRh45@https://bazar-international.lu/
DTSTAMP:20211004T215234Z
DESCRIPTION:The Book Stand of the Bazar International invites Book Collecto
 rs and Enthusiasts to a special sale with GREAT prices on\n\nANTIQUARIAN B
 ooks\nModern FIRST EDITIONS\nOutstanding ART BOOKS\nIllustrated Books\, Er
 otica\nRare CHILDREN's books\n\nDates5 &amp\; 6 October 2018 10 am – 6 pm
 \nRefreshmentsCash only\, please.\nDirections\nBofferdange is a short driv
 e from Luxembourg City (10km – 15 minutes). Heading north from Luxembourg 
 on N7 towards Mersch/Ettelbruck\, Bofferdange is the village after Heisdor
 f. It has one set of traffic lights\, turn right at these (rue du Moulin).
  Go up the hill about ½ km (pass all houses\, over speed bumps). Number 25
  is the shabby old farmhouse all alone on the left. You can also reach Bof
 ferdange via the A7 Autoroute du Nord – follow signs to Lorentzweiler\, th
 en drive south to Bofferdange.\nVenueCatherine Allen's house25 rue du Moul
 inL-7376 Bofferdange\nContactEmail: ceallen1@gmail.com  Tel: +352 33 34 57
  https://bazar-international.lu/component/rseventspro/event/18-rare-collec
 table-books-open-house?Itemid=101
DTSTART:20191005T100000Z
DTEND:20191005T180000Z
LOCATION:Book Stand (25 Rue du Moulin\, 7374 Bofferdange\, Luxembourg)
SUMMARY:Rare & Collectable Books Open House
URL:https://bazar-international.lu/component/rseventspro/event/18-rare-coll
 ectable-books-open-house?Itemid=101
END:VEVENT
BEGIN:VEVENT
UID:20211004T165234CDT-6622N3GRb2@https://bazar-international.lu/
DTSTAMP:20211004T215234Z
DESCRIPTION:Charity singing recital\nfor the benefit of the Bazar Internati
 onal - Romanian stand\nThursday\, October 24\, 2019\n&nbsp\;\nSinging reci
 tal\nELENA TANASE - soprano RUXANDRA BARAC - mezzo-soprano KATRIN REIFENRA
 TH - piano\nProgramme\nS. V. Bellini – « Dopo l’oscuro nembo »A.L. Weber –
  « Memory – Cats”Sabin Dragoi - « Crizanteme »Tiberiu Brediceanu - « Miori
 ta »Joaquin Turina - « Sacro Monte »\nG. Gerschwin – “I got rythme”D. Modu
 gno – “Volare”Faure - « Après un rêve »Faure - « Au bord de l’eau »George 
 Gerschwin – « Promenade »\nG. Gerschwin – «Summertime»P. Luna – «De Espagn
 e vengo»Vessicchio – « Sogno »Bizet – « Habanera »George Gershwin - «Fasci
 nating rythm – Summertime»(extraits de Porgy and Bess)\nF. Loewe – «I coul
 d have danced all night»G. Bizet - «Chanson bohémienne»Donizetti –«Quel gu
 ardo il cavaliere »Lehar – «Meine Lippen sie küssen so heiss»\nAll profits
  from the evening will be donated to the Bazar International Luxembourg - 
 Romania standWith the support of Romania Luxembourg Business Forum AsblThe
  price of the recital and dinner is €65 per person and €25 for the recital
  only.Reservations: Cercle Munster tel: 47 06 431TO PARK YOUR CAR\, PLEASE
  USE THE PARKING LOTAND THE ELEVATOR ON THE PLATEAU OF THE SAINT-ESPRIT.Ce
 rcle Munster5-7\, rue Munster L-2160 LuxembourgTel: (352) 47 06 431 | Fax:
  (352) 47 25 87 GSM (621) 133 139www.munster.lu e-mail : reservation@munst
 er.lu https://bazar-international.lu/component/rseventspro/event/25-charit
 y-singing-recital-romania-stand?Itemid=101
DTSTART:20191024T190000Z
DTEND:20191024T233000Z
LOCATION:cercle munster (cercle munster luxembourg)
SUMMARY:Charity singing recital - Romania Stand
URL:https://bazar-international.lu/component/rseventspro/event/25-charity-s
 inging-recital-romania-stand?Itemid=101
END:VEVENT
BEGIN:VEVENT
UID:20211004T165234CDT-6625Zm8S8b@https://bazar-international.lu/
DTSTAMP:20211004T215234Z
DESCRIPTION:We are looking forward to welcoming you to the 59th Bazar Inter
 national 2019.\nVenue\nLuxexpo The Box\nOpening times\nSaturday November 3
 0 from 11 a.m. to 7 p.m. Sunday December 1 from 10 a.m. to 6 p.m.\nHalls\n
 H2 / H3\nEntry\nFree entry https://bazar-international.lu/component/rseven
 tspro/event/26-bazar-international?Itemid=101
DTSTART:20191130T110000Z
DTEND:20191130T190000Z
LOCATION:Luxexpo The Box (10 Circuit de La Foire Internationale\, 1347 Luxe
 mbourg)
SUMMARY:Bazar International
URL:https://bazar-international.lu/component/rseventspro/event/26-bazar-int
 ernational?Itemid=101
END:VEVENT
BEGIN:VEVENT
UID:20211004T165234CDT-6626BnaUN2@https://bazar-international.lu/
DTSTAMP:20211004T215234Z
DESCRIPTION:\n\n\n\n\n\n\nThe Hungarian stand is organizing its traditional
  fund-raising movie projection on September 29 at 19:30 in the Robert Krie
 ps Hall of the Neumünster Abbey.\nThe Witness – A tanú\nOriginal version\,
  English subtitle\nEntrance fee is 10 EUR\, and all your contribution will
  go to the charities of the 2021 Bazar International de Luxembourg.\n'The 
 Witness' has been the No. 1 cult classic in Hungary since the 1980s\, and 
 it proved to be extremely popular at the 1981 Cannes Film Festival. Almost
  every second of its sayings are part of the Hungarian vocabulary today.\n
 \n\n\n\n\n\n\n\n\n\n\n\n\n\nThe Witness’ presents the constant conflict be
 tween power and the average person.&nbsp\;The film follows the life of Jos
 eph\, an ordinary dike keeper. His life becomes a roller coaster ride foll
 owing a 'heinous' crime\, illegally slaughtering Desiree\, his family’s pe
 t pig. He is either intermittently elevated into an important position\, g
 enerally reserved for the communist elite\, or jailed. One failure after a
 nother\, the incompetent and 'ideologically under-educated' Joseph is risi
 ng higher and higher through the ranks of the communist echelon\, all the 
 while remaining completely clueless about his promotions. Until one day\, 
 when he is called upon to return the 'favour' …\nTickets can be purchased 
 on\nhttps://www.neimenster.lu/Culture/Programmation-culturelle/Agenda/Cine
 mas/The-Witness-Tuesday-29-September-2020-7-30-00-pm\nor by calling the ti
 cket office at +352 262052 444\,\nor before the screening.\nDue to the Cov
 id-19 pandemic\, the event is organized according to the regulation effect
 ive on the day of the screening.\nVolunteers of the Hungarian stand\n\n\n
 \n\n\n\n https://bazar-international.lu/component/rseventspro/event/29-the
 -witness-a-tanu-movie-projection?Itemid=101
DTSTART:20200929T193000Z
DTEND:20200929T223000Z
LOCATION:Robert Krieps Hall Neumünster Abbey (28 Rue Münster\, 2160 Luxembo
 urg)
SUMMARY:The Witness - A Tanù - movie projection
URL:https://bazar-international.lu/component/rseventspro/event/29-the-witne
 ss-a-tanu-movie-projection?Itemid=101
END:VEVENT
BEGIN:VEVENT
UID:20211004T165234CDT-6629UMLdZp@https://bazar-international.lu/
DTSTAMP:20211004T215234Z
DESCRIPTION:\n\n\n\n\n\n\nThe Italian Stand of the Bazar InternationalIs pl
 eased to reopen its doors to their customary private sale\n“Italian fashio
 n and its summer colours”\nLet yourself be tempted by the the refinement a
 nd colours of our Italian fashion\, by participating at the event in an el
 egant\, large and airy space\, in full respect of all safety measures.\nWe
 dnesday\, June 2nd from 10am to 6pmThursday\, June 3rd from 10am to 5 pm\n
 Gingko14-16 avenue PasteurL-2310 Limpertsberg(across the street from Cactu
 s Limpertsberg\, easy parking at the Glacis)https://italiabazarint.wixsite
 .com/stand-italiano\n\n\n\n\n\n\n\n\n\n\n\n\n\n\nLe Stand Italien du Bazar
  International de Luxembourga le plaisir de rouvrir ses portes à la vente 
 privée\n« La mode italienne aux couleurs de l’été »\nLaissez-vous séduire 
 par l’élégance et la légèreté de la mode italienne en participant à l’évèn
 ement dans un espace vaste et aéré dans le plein respect des mesures de sé
 curité.\nMercredi 2 juin de 10 à 18 heuresJeudi 3 juin de 10 à 17 heures\n
 Gingko14-16 avenue PasteurL-2310 Limpertsberg(en face du Cactus du Limpert
 sberg\, parking aisé au Glacis)https://italiabazarint.wixsite.com/stand-it
 aliano\n\n\n\n\n\n\n https://bazar-international.lu/component/rseventspro/
 event/32-italian-stand-italian-fashion-and-its-summer-colours-stand-italie
 n-la-mode-italienne-aux-couleurs-de-l-ete?Itemid=101
DTSTART:20210602T100000Z
DTEND:20210602T180000Z
LOCATION:Gingko ()
SUMMARY:Italian Stand “Italian fashion and its summer colours” - Stand ital
 ien: « La mode italienne aux couleurs de l’été »
URL:https://bazar-international.lu/component/rseventspro/event/32-italian-s
 tand-italian-fashion-and-its-summer-colours-stand-italien-la-mode-italienn
 e-aux-couleurs-de-l-ete?Itemid=101
END:VEVENT
BEGIN:VEVENT
UID:20211004T165234CDT-6632UJevmZ@https://bazar-international.lu/
DTSTAMP:20211004T215234Z
DESCRIPTION:{article title='Dutch Stand Open AIr Flower Show'}[title][text]
 {/article} https://bazar-international.lu/component/rseventspro/event/40-o
 pen-air-flower-fair-dutch-stand?Itemid=101
DTSTART:20211003T120000Z
DTEND:20211003T180000Z
LOCATION:Residency of the Dutch Ambassador (138\, rue des Muguets\, Weimers
 hof\, L-2167 Luxembourg)
SUMMARY:Open Air Flower Fair - Dutch Stand
URL:https://bazar-international.lu/component/rseventspro/event/40-open-air-
 flower-fair-dutch-stand?Itemid=101
END:VEVENT
BEGIN:VEVENT
UID:20211004T165234CDT-6634ai64Iw@https://bazar-international.lu/
DTSTAMP:20211004T215234Z
DESCRIPTION:{article title='Stand français - prévente automne 2021'}{/artic
 le} https://bazar-international.lu/component/rseventspro/event/43-la-nouve
 lle-mode-de-l-hiver-2021-stand-francais?Itemid=101
DTSTART:20211013T093000Z
DTEND:20211013T180000Z
LOCATION:Residency of the Dutch Ambassador (138\, rue des Muguets\, Weimers
 hof\, L-2167 Luxembourg)
SUMMARY:La nouvelle mode de l’hiver 2021 - Stand Français
URL:https://bazar-international.lu/component/rseventspro/event/43-la-nouvel
 le-mode-de-l-hiver-2021-stand-francais?Itemid=101
END:VEVENT
BEGIN:VEVENT
UID:20211004T165234CDT-6635JHOJTi@https://bazar-international.lu/
DTSTAMP:20211004T215234Z
DESCRIPTION: https://bazar-international.lu/component/rseventspro/event/44-
 table-quiz-ireland-stand?Itemid=101
DTSTART:20211013T193000Z
DTEND:20211013T220000Z
LOCATION:Centre Culturel Hollerich (34 Rue Emile Lavandier\, L-1924 Luxembo
 urg)
SUMMARY:Table Quiz - Ireland Stand
URL:https://bazar-international.lu/component/rseventspro/event/44-table-qui
 z-ireland-stand?Itemid=101
END:VEVENT
END:VCALENDAR
